BEGIN:VCALENDAR
VERSION:2.0
PRODID:-//Tukios.com/
BEGIN:VEVENT
UID:971cc108-7baf-4a54-bb4d-3a90ecc155bd@www.kurtzmemorialchapel.com
DTSTAMP:20260423T221204Z
DTSTART:20260428T164500Z
DTEND:20260428T174500Z
SUMMARY:Interment
DESCRIPTION:
URL:https://www.kurtzmemorialchapel.com/obituaries/maria-smith
LOCATION:  South Elsner Road  Frankfort IL 60423
GEO:41.5023537;-87.8688197
END:VEVENT
END:VCALENDAR