BEGIN:VCALENDAR
VERSION:2.0
PRODID:-//Tukios.com/
BEGIN:VEVENT
UID:512e21f2-f91f-4c57-a9c4-5dc26da9b9c9@www.kurtzmemorialchapel.com
DTSTAMP:20260423T220638Z
DTSTART:20260428T160000Z
DTEND:20260428T170000Z
SUMMARY:Funeral Service
DESCRIPTION:
URL:https://www.kurtzmemorialchapel.com/obituaries/maria-smith
LOCATION:St. Peter’s United Church of Christ 12 West Sauk Trail  
	Frankfort IL 60423
GEO:41.495536;-87.8495278
END:VEVENT
END:VCALENDAR