BEGIN:VCALENDAR
VERSION:2.0
PRODID:-//Tukios.com/
BEGIN:VEVENT
UID:23afc3a5-b9c1-4c40-b7d1-e0520bdb3840@www.kurtzmemorialchapel.com
DTSTAMP:20260423T220819Z
DTSTART:20260428T150000Z
DTEND:20260428T160000Z
SUMMARY:Visitation
DESCRIPTION:
URL:https://www.kurtzmemorialchapel.com/obituaries/maria-smith
LOCATION:St. Peter’s United Church of Christ 12 West Sauk Trail  
	Frankfort IL 60423
GEO:41.495536;-87.8495278
END:VEVENT
END:VCALENDAR