BEGIN:VCALENDAR
VERSION:2.0
PRODID:-//Tukios.com/
BEGIN:VEVENT
UID:91bb26ad-5efc-4b03-9224-b097d208c3fe@www.kurtzmemorialchapel.com
DTSTAMP:20260423T035058Z
DTSTART:20260425T163000Z
DTEND:20260425T173000Z
SUMMARY:Mass
DESCRIPTION:
URL:https://www.kurtzmemorialchapel.com/obituaries/lorie-zigman
LOCATION:St. Anthony Catholic Church 7659 West Sauk Trail  Frankfort IL 
	60423
GEO:41.4878584;-87.8062303
END:VEVENT
END:VCALENDAR