BEGIN:VCALENDAR
VERSION:2.0
PRODID:-//Tukios.com/
BEGIN:VEVENT
UID:a0fbe1e1-a0ae-4b37-8c2c-0295c312db44@www.kurtzmemorialchapel.com
DTSTAMP:20260423T034806Z
DTSTART:20260425T140000Z
DTEND:20260425T160000Z
SUMMARY:Visitation
DESCRIPTION:
URL:https://www.kurtzmemorialchapel.com/obituaries/lorie-zigman
LOCATION:Kurtz Memorial Chapel 65 Old Frankfort Way  Frankfort IL 60423
GEO:41.5030765;-87.8513965
END:VEVENT
END:VCALENDAR