BEGIN:VCALENDAR
VERSION:2.0
PRODID:-//Tukios.com/
BEGIN:VEVENT
UID:7a2e5b55-094f-41d4-b7a4-d0510f127284@www.kurtzmemorialchapel.com
DTSTAMP:20260423T215421Z
DTSTART:20260428T173000Z
DTEND:20260428T183000Z
SUMMARY:Interment
DESCRIPTION:
URL:https://www.kurtzmemorialchapel.com/obituaries/carole-ballard
LOCATION: 1212 East Washington Street  Joliet IL 60433
GEO:41.521394;-88.0506448
END:VEVENT
END:VCALENDAR