BEGIN:VCALENDAR
VERSION:2.0
PRODID:-//Tukios.com/
BEGIN:VEVENT
UID:5cca4e8f-5f3b-45ab-a738-e32a10c2d89e@www.kurtzmemorialchapel.com
DTSTAMP:20260423T215411Z
DTSTART:20260428T160000Z
DTEND:20260428T163000Z
SUMMARY:Prayer Service
DESCRIPTION:
URL:https://www.kurtzmemorialchapel.com/obituaries/carole-ballard
LOCATION: 102 Francis Rd  New Lenox IL 60451
GEO:41.5290776;-87.9652286
END:VEVENT
END:VCALENDAR