BEGIN:VCALENDAR
VERSION:2.0
PRODID:-//Tukios.com/
BEGIN:VEVENT
UID:586ca1a8-787c-4f96-be84-f48b4030c143@www.kurtzmemorialchapel.com
DTSTAMP:20260423T215244Z
DTSTART:20260427T200000Z
DTEND:20260428T010000Z
SUMMARY:Visitation
DESCRIPTION:
URL:https://www.kurtzmemorialchapel.com/obituaries/carole-ballard
LOCATION: 102 Francis Rd  New Lenox IL 60451
GEO:41.5290776;-87.9652286
END:VEVENT
END:VCALENDAR